Workbook
Name allowed10375: 'Valid Values'!$R$2:$R$33
Name allowed10376: 'Valid Values'!$S$2:$S$27
Name allowed10377: 'Valid Values'!$U$2:$U$17
Name allowed10391: 'Valid Values'!$O$2:$O$6
Name allowed10393: 'Valid Values'!$P$2:$P$19
Name allowed10429: 'Valid Values'!$AN$2:$AN$4
Name allowed185333: 'Valid Values'!$AK$2:$AK$70
Name allowed210009: 'Valid Values'!$AR$2:$AR$5
Name allowed222846: 'Valid Values'!$BA$2:$BA$5
Name allowed222849: 'Valid Values'!$BB$2:$BB$61
Name allowed222981: 'Valid Values'!$V$2:$V$12
Name allowed222982: 'Valid Values'!$T$2:$T$7
Name allowed223537: 'Valid Values'!$W$2:$W$3
Name allowed224756: 'Valid Values'!$AO$2:$AO$4
Name allowed224977: 'Valid Values'!$AP$2:$AP$4
Name allowed236265: 'Valid Values'!$AS$2:$AS$3
Name allowed239991: 'Valid Values'!$X$2:$X$15
Name allowed239997: 'Valid Values'!$Y$2:$Y$5
Name allowed244560: 'Valid Values'!$Z$2:$Z$6
Name allowed251106: 'Valid Values'!$AT$2:$AT$5
Name allowed255266: 'Valid Values'!$BD$2:$BD$4
Name allowed256050: 'Valid Values'!$BE$2:$BE$22
Name allowed293475: 'Valid Values'!$AA$2:$AA$20
Name allowed333534: 'Valid Values'!$BC$2:$BC$26
Name allowed340805: 'Valid Values'!$AV$2:$AV$17
Name allowed341053: 'Valid Values'!$AW$2:$AW$6
Name allowed346776: 'Valid Values'!$AB$2:$AB$11
Name allowed351565: 'Valid Values'!$AC$2:$AC$5
Name allowed351576: 'Valid Values'!$AE$2:$AE$5
Name allowed351606: 'Valid Values'!$AH$2:$AH$6
Name allowed352293: 'Valid Values'!$AG$2:$AG$8
Name allowed352302: 'Valid Values'!$AF$2:$AF$8
Name allowed364800: 'Valid Values'!$AQ$2:$AQ$5
Name allowed367216: 'Valid Values'!$AD$2:$AD$13
Name allowed369745: 'Valid Values'!$AX$2:$AX$13
Name allowed371510: 'Valid Values'!$AI$2:$AI$17
Name allowed373909: 'Valid Values'!$AU$2:$AU$37
Name allowed378129: 'Valid Values'!$Q$2:$Q$55
Name allowed381749: 'Valid Values'!$AJ$2:$AJ$22
Name allowed384836: 'Valid Values'!$AL$2:$AL$22
Name allowed386031: 'Valid Values'!$AY$2:$AY$4
Name allowed400839: 'Valid Values'!$AM$2:$AM$5
Name allowed421625: 'Valid Values'!$AZ$2:$AZ$6
Name allowedcore__manufacturerId: 'Valid Values'!$A$2:$A$2
Name allowedmedia__documentType: 'Valid Values'!$K$2:$K$16
Name allowedmedia__language: 'Valid Values'!$N$2:$N$30
Name allowedmedia__legalDocumentType: 'Valid Values'!$L$2:$L$507
Name allowedmedia__regionType: 'Valid Values'!$M$2:$M$5
Name allowedpropSixtyFive__chemicalId: 'Valid Values'!$H$2:$H$902
Name allowedpropSixtyFive__countryOfManufacturer: 'Valid Values'!$J$2:$J$248
Name allowedpropSixtyFive__toxicity: 'Valid Values'!$I$2:$I$3
Name allowedshippingAndFulfillment__freightClass: 'Valid Values'!$E$2:$E$19
Name allowedshippingAndFulfillment__leadTime: 'Valid Values'!$F$2:$F$18
Name allowedshippingAndFulfillment__replacementLeadTime: 'Valid Values'!$G$2:$G$7
Name allowedshippingAndFulfillment__shipType: 'Valid Values'!$D$2:$D$3
Name allowedvariantGrouping__variantGrouping: 'Valid Values'!$C$2:$C$6
Name allowedvariantGrouping__variantType: 'Valid Values'!$B$2:$B$4
Name Class441Answers: '441 - Coffee & Cocktail'!$B$8:$EN$507
Name Class441Errors: '441 - Coffee & Cocktail-WUO_ERR'!$B$8:$EN$507
Name Class441Headers: '441 - Coffee & Cocktail'!$B$4:$EN$4

Sheet Instructions
A1: New Features | D1: For Mandarin translations of product questions, please click here. All answer inputs should still be provided in English. 点击此处查看所有产品相关问题的中文翻译。
A2: Variant Grouping
A3: If you have indicated that you will provide variant grouping data via template settings, additional columns for variant grouping information have been added to the class | C3: Legends
A4: sheet. Enter a common identifier to indicate which part numbers should be grouped together, select attribute(s) to group variants by (or enter custom category if | C4: Cell Fill Colors
A5: desired category is not included in the dropdown), and provide corresponding variant attribute. Groupings that violate Wayfair's Do Not Join rules will be excluded. | C5: Light Red | D5: Missing required data
A6: If Wayfair detects additional variants, products will be grouped further after submission. | C6: Gray | D6: Not required/will be autofilled*
C7: Red | D7: Error/incorrect answer
A8: Class Sheet Instructions | C8: Blue | D8: Autofill suggested by Wayfair (review needed)
A9: Conditional Formatting | C9: Yellow | D9: Warning
A10: Some answers to questions on the spec sheet are dependent on upstream responses, whether they are related to attributes like material type, existence of features | C10: No fill | D10: Validated/no action required
A11: or compliance. Real-time cell coloring per the legend indicates whether an input is required, has an error or has a conditional rule applied. | D11: * For products that have already been submitted, the entire row will be filled gray and cannot be edited further
A12: Error Guidance
A13: Errors are highlighted on the Error Summary Tab which shows a summary of all errors across all sheets with high level details and hyperlinks to the corresponding | C13: Data Priority
A14: cell where the error occurred. Additionally, a new Error Status Column at the beginning of each class sheet will show the status of each row and will display the first error | C14: Required | D14: Data required for product to be live on site
A15: error message in that row, and will update as errors are resolved from left to right. | C15: Recommended | D15: Not required but recommended to improve search and browse
C16: Additional | D16: Optional but enhances listings for customers
A17: All data provided in the class sheet feeds directly to the customer-facing Product Details Page (PDP), optimizes search and enables order fulfillment. Please ensure the | C17: Conditional | D17: Data may be required based on prior responses
A18: data provided is accurate and as detailed as possible.
A19: Notes: | C19: Data Type
A20: • Column headers provide additional information on the data required for each column. | C20: Text | D20: Enter a text-based response
A21: • Completing Recommended and Additional fields further enhances the customer experience and improves the quality of listings for better product discovery. | C21: Single-Select | D21: Select one option from a list of provided options (listed in a dropdown on the cell)
A22: • Marketing Copy should provide a compelling, informative overview of the product, ensuring it effectively highlights key features, benefits, and use cases. | C22: Multi-Select | D22: Enter one or more options from a list of provided options, separated using a semi-colon (;)
A23: Incorporating comprehensive, descriptive language will enable future enhancements for capturing and improving product tagging. | C23: Number* | D23: Enter a decimal numeric response with up to 2 decimal points
A24: ◦ Provide key selling point(s)/feature(s) that differentiate your product and inform customers about your product and encourage purchase. | C24: Whole Number* | D24: Enter an integer (whole number) numeric response
A25: ◦ Either Marketing Copy OR at least 3 Feature Bullets are required. Feature bullets will be displayed on Wayfair PDP in bulleted form. | C25: Yes or No | D25: Enter a Yes, No or Does Not Apply response (listed in a dropdown on the cell)
A26: • The order in which media is input may not be reflected in order of imagery on the product page. | D26: * Does Not Apply is a valid response when applicable
A27: • If all products in a class have the same answer to a question, a default value can be set. An answer entered in the Default Answer row will be applied to all products
A28: in that class automatically. Additional products added to this class in the future will have the same default value applied as well. For any products that have a
A29: different answer than others in the class, enter the answer manually to the applicable row to bypass the default just for that question and product.
A31: Additional Tabs Instructions
A32: Additional Cartons
A33: If a product ships in more than 5 cartons, use the Additional Cartons tab to submit data for cartons 6 and beyond. To add additional cartons, provide the Supplier Part
A34: Number followed by corresponding data for each carton.
A35: Additional Chemicals
A36: If your product contains more than 5 chemicals that need to be reported for Proposition 65, use the Additional Chemicals tab to add additional data.
A37: Additional Media
A38: If a product has more media files than there are columns for in the class sheet, use the Additional Images, Videos or Documents tabs to add additional data.
A39: Notes:
... A45: The Failed Products tab will only show if products in your template failed to upload. These products will need to be added to a new template and uploaded again.

Sheet Error Summary
A1: This Error Summary tab lists all errors and warnings in the spec sheet. Each entry includes a link to the specific cell and detailed information about the issue.
A2: Status | B2: Location | C2: Sheet Name | D2: Supplier Part Number | E2: Product Name | F2: Field | G2: Provided Answer | H2: Error Message
A3: {=_xlfn.LET(_xlpm.class441Data,GetSheetStatusData(Class441Tracker,Class441Errors),_xlpm.shippingAndFulfillment__cartonsData,GetSheetStatusData(shippingAndFulfillment__cartonsTracker,shippingAndFulfillment__cartonsErrors),_xlpm.propSixtyFive__chemicalsData,GetSheetStatusData(propSixtyFive__chemicalsTracker,propSixtyFive__chemicalsErrors),_xlpm.media__imagesData,GetSheetStatusData(media__imagesTracker,media__imagesErrors),_xlpm.media__videosData,GetSheetStatusData(media__videosTracker,media__videosErrors),_xlpm.media__documentsData,GetSheetStatusData(media__documentsTracker,media__documentsErrors),_xlpm.stackedData,_xlfn.VSTACK(_xlpm.class441Data,_xlpm.shippingAndFulfillment__cartonsData,_xlpm.propSixtyFive__chemicalsData,_xlpm.media__imagesData,_xlpm.media__videosData,_xlpm.media__documentsData),_xlfn._xlws.FILTER(_xlpm.stackedData,_xlpm.stackedData<>"",""))} | B3: =IF(AND(C3<>"",J3<>""),HYPERLINK("#'"&C3&"'!"&J3,J3),"") | C3: {=_xlfn.LET(_xlpm.class441Data,GetSheetNameData(Class441Tracker,Class441Errors,"441 - Coffee & Cocktail"),_xlpm.shippingAndFulfillment__cartonsData,GetSheetNameData(shippingAndFulfillment__cartonsTracker,shippingAndFulfillment__cartonsErrors,"Additional Cartons"),_xlpm.propSixtyFive__chemicalsData,GetSheetNameData(propSixtyFive__chemicalsTracker,propSixtyFive__chemicalsErrors,"Additional Chemicals"),_xlpm.media__imagesData,GetSheetNameData(media__imagesTracker,media__imagesErrors,"Additional Images"),_xlpm.media__videosData,GetSheetNameData(media__videosTracker,media__videosErrors,"Additional Videos"),_xlpm.media__documentsData,GetSheetNameData(media__documentsTracker,media__documentsErrors,"Additional Documents"),_xlpm.stackedData,_xlfn.VSTACK(_xlpm.class441Data,_xlpm.shippingAndFulfillment__cartonsData,_xlpm.propSixtyFive__chemicalsData,_xlpm.media__imagesData,_xlpm.media__videosData,_xlpm.media__documentsData),_xlfn._xlws.FILTER(_xlpm.stackedData,_xlpm.stackedData<>"",""))} | D3: {=_xlfn.LET(_xlpm.class441PartNumbers,GetSheetSupplierPartNumbers(Class441Tracker,Class441Errors,'441 - Coffee & Cocktail'!B:B),_xlpm.shippingAndFulfillment__cartonsPartNumbers,GetSheetSupplierPartNumbers(shippingAndFulfillment__cartonsTracker,shippingAndFulfillment__cartonsErrors,'Additional Cartons'!B:B),_xlpm.propSixtyFive__chemicalsPartNumbers,GetSheetSupplierPartNumbers(propSixtyFive__chemicalsTracker,propSixtyFive__chemicalsErrors,'Additional Chemicals'!B:B),_xlpm.media__imagesPartNumbers,GetSheetSupplierPartNumbers(media__imagesTracker,media__imagesErrors,'Additional Images'!B:B),_xlpm.media__videosPartNumbers,GetSheetSupplierPartNumbers(media__videosTracker,media__videosErrors,'Additional Videos'!B:B),_xlpm.media__documentsPartNumbers,GetSheetSupplierPartNumbers(media__documentsTracker,media__documentsErrors,'Additional Documents'!B:B),_xlpm.stackedPartNumbers,_xlfn.VSTACK(_xlpm.class441PartNumbers,_xlpm.shippingAndFulfillment__cartonsPartNumbers,_xlpm.propSixtyFive__chemicalsPartNumbers,_xlpm.media__imagesPartNumbers,_xlpm.media__videosPartNumbers,_xlpm.media__documentsPartNumbers),_xlfn._xlws.FILTER(_xlpm.stackedPartNumbers,_xlpm.stackedPartNumbers<>"",""))} | E3: {=_xlfn.LET(_xlpm.class441ProductNames,GetSheetProductNames(Class441Tracker,Class441Errors,'441 - Coffee & Cocktail'!G:G),_xlpm.shippingAndFulfillment__cartonsProductNames,GetSheetProductNames(shippingAndFulfillment__cartonsTracker,shippingAndFulfillment__cartonsErrors,'Additional Cartons'!Z:Z),_xlpm.propSixtyFive__chemicalsProductNames,GetSheetProductNames(propSixtyFive__chemicalsTracker,propSixtyFive__chemicalsErrors,'Additional Chemicals'!Z:Z),_xlpm.media__imagesProductNames,GetSheetProductNames(media__imagesTracker,media__imagesErrors,'Additional Images'!Z:Z),_xlpm.media__videosProductNames,GetSheetProductNames(media__videosTracker,media__videosErrors,'Additional Videos'!Z:Z),_xlpm.media__documentsProductNames,GetSheetProductNames(media__documentsTracker,media__documentsErrors,'Additional Documents'!Z:Z),_xlpm.stackedProductNames,_xlfn.VSTACK(_xlpm.class441ProductNames,_xlpm.shippingAndFulfillment__cartonsProductNames,_xlpm.propSixtyFive__chemicalsProductNames,_xlpm.media__imagesProductNames,_xlpm.media__videosProductNames,_xlpm.media__documentsProductNames),_xlfn._xlws.FILTER(_xlpm.stackedProductNames,_xlpm.stackedProductNames<>"EMPTY_ERROR",""))} | F3: {=_xlfn.LET(_xlpm.class441QuestionDisplayNames,GetErrorQuestionDisplayNames(Class441Headers,Class441Tracker,Class441Errors),_xlpm.shippingAndFulfillment__cartonsQuestionDisplayNames,GetErrorQuestionDisplayNames(shippingAndFulfillment__cartonsHeaders,shippingAndFulfillment__cartonsTracker,shippingAndFulfillment__cartonsErrors),_xlpm.propSixtyFive__chemicalsQuestionDisplayNames,GetErrorQuestionDisplayNames(propSixtyFive__chemicalsHeaders,propSixtyFive__chemicalsTracker,propSixtyFive__chemicalsErrors),_xlpm.media__imagesQuestionDisplayNames,GetErrorQuestionDisplayNames(media__imagesHeaders,media__imagesTracker,media__imagesErrors),_xlpm.media__videosQuestionDisplayNames,GetErrorQuestionDisplayNames(media__videosHeaders,media__videosTracker,media__videosErrors),_xlpm.media__documentsQuestionDisplayNames,GetErrorQuestionDisplayNames(media__documentsHeaders,media__documentsTracker,media__documentsErrors),_xlpm.stackedQuestionDisplayNames,_xlfn.VSTACK(_xlpm.class441QuestionDisplayNames,_xlpm.shippingAndFulfillment__cartonsQuestionDisplayNames,_xlpm.propSixtyFive__chemicalsQuestionDisplayNames,_xlpm.media__imagesQuestionDisplayNames,_xlpm.media__videosQuestionDisplayNames,_xlpm.media__documentsQuestionDisplayNames),_xlfn._xlws.FILTER(_xlpm.stackedQuestionDisplayNames,_xlpm.stackedQuestionDisplayNames<>"",""))} | G3: {=_xlfn.LET(_xlpm.class441ProvidedAnswers,GetFilteredProvidedAnswers(Class441Answers,Class441Errors,Class441Tracker),_xlpm.shippingAndFulfillment__cartonsProvidedAnswers,GetFilteredProvidedAnswers(shippingAndFulfillment__cartonsAnswers,shippingAndFulfillment__cartonsErrors,shippingAndFulfillment__cartonsTracker),_xlpm.propSixtyFive__chemicalsProvidedAnswers,GetFilteredProvidedAnswers(propSixtyFive__chemicalsAnswers,propSixtyFive__chemicalsErrors,propSixtyFive__chemicalsTracker),_xlpm.media__imagesProvidedAnswers,GetFilteredProvidedAnswers(media__imagesAnswers,media__imagesErrors,media__imagesTracker),_xlpm.media__videosProvidedAnswers,GetFilteredProvidedAnswers(media__videosAnswers,media__videosErrors,media__videosTracker),_xlpm.media__documentsProvidedAnswers,GetFilteredProvidedAnswers(media__documentsAnswers,media__documentsErrors,media__documentsTracker),_xlpm.stackedProvidedAnswers,_xlfn.VSTACK(_xlpm.class441ProvidedAnswers,_xlpm.shippingAndFulfillment__cartonsProvidedAnswers,_xlpm.propSixtyFive__chemicalsProvidedAnswers,_xlpm.media__imagesProvidedAnswers,_xlpm.media__videosProvidedAnswers,_xlpm.media__documentsProvidedAnswers),_xlfn._xlws.FILTER(_xlpm.stackedProvidedAnswers,_xlpm.stackedProvidedAnswers<>"EMPTY_ERROR",""))} | H3: {=_xlfn.LET(_xlpm.class441ErrorMessages,_xlfn._xlws.FILTER(_xlfn.TOCOL(Class441Errors),_xlfn.TOCOL((Class441Errors<>"")*(Class441Tracker<>"Valid")*(Class441Tracker<>"Disabled")),""),_xlpm.shippingAndFulfillment__cartonsErrorMessages,_xlfn._xlws.FILTER(_xlfn.TOCOL(shippingAndFulfillment__cartonsErrors),_xlfn.TOCOL((shippingAndFulfillment__cartonsErrors<>"")*(shippingAndFulfillment__cartonsTracker<>"Valid")*(shippingAndFulfillment__cartonsTracker<>"Disabled")),""),_xlpm.propSixtyFive__chemicalsErrorMessages,_xlfn._xlws.FILTER(_xlfn.TOCOL(propSixtyFive__chemicalsErrors),_xlfn.TOCOL((propSixtyFive__chemicalsErrors<>"")*(propSixtyFive__chemicalsTracker<>"Valid")*(propSixtyFive__chemicalsTracker<>"Disabled")),""),_xlpm.media__imagesErrorMessages,_xlfn._xlws.FILTER(_xlfn.TOCOL(media__imagesErrors),_xlfn.TOCOL((media__imagesErrors<>"")*(media__imagesTracker<>"Valid")*(media__imagesTracker<>"Disabled")),""),_xlpm.media__videosErrorMessages,_xlfn._xlws.FILTER(_xlfn.TOCOL(media__videosErrors),_xlfn.TOCOL((media__videosErrors<>"")*(media__videosTracker<>"Valid")*(media__videosTracker<>"Disabled")),""),_xlpm.media__documentsErrorMessages,_xlfn._xlws.FILTER(_xlfn.TOCOL(media__documentsErrors),_xlfn.TOCOL((media__documentsErrors<>"")*(media__documentsTracker<>"Valid")*(media__documentsTracker<>"Disabled")),""),_xlpm.stackedErrorMessages,_xlfn.VSTACK(_xlpm.class441ErrorMessages,_xlpm.shippingAndFulfillment__cartonsErrorMessages,_xlpm.propSixtyFive__chemicalsErrorMessages,_xlpm.media__imagesErrorMessages,_xlpm.media__videosErrorMessages,_xlpm.media__documentsErrorMessages),_xlpm.filteredMessages,_xlfn._xlws.FILTER(_xlpm.stackedErrorMessages,_xlpm.stackedErrorMessages<>"",""),IFERROR(_xlfn.TEXTAFTER(_xlpm.filteredMessages,":"),_xlpm.filteredMessages))} | J3: {=_xlfn.LET(_xlpm.class441Addresses,GetSheetLocationAddresses(Class441Tracker,Class441Errors),_xlpm.shippingAndFulfillment__cartonsAddresses,GetSheetLocationAddresses(shippingAndFulfillment__cartonsTracker,shippingAndFulfillment__cartonsErrors),_xlpm.propSixtyFive__chemicalsAddresses,GetSheetLocationAddresses(propSixtyFive__chemicalsTracker,propSixtyFive__chemicalsErrors),_xlpm.media__imagesAddresses,GetSheetLocationAddresses(media__imagesTracker,media__imagesErrors),_xlpm.media__videosAddresses,GetSheetLocationAddresses(media__videosTracker,media__videosErrors),_xlpm.media__documentsAddresses,GetSheetLocationAddresses(media__documentsTracker,media__documentsErrors),_xlpm.stackedAddresses,_xlfn.VSTACK(_xlpm.class441Addresses,_xlpm.shippingAndFulfillment__cartonsAddresses,_xlpm.propSixtyFive__chemicalsAddresses,_xlpm.media__imagesAddresses,_xlpm.media__videosAddresses,_xlpm.media__documentsAddresses),_xlfn._xlws.FILTER(_xlpm.stackedAddresses,_xlpm.stackedAddresses<>"",""))}
B4: =IF(AND(C4<>"",J4<>""),HYPERLINK("#'"&C4&"'!"&J4,J4),"")
B5: =IF(AND(C5<>"",J5<>""),HYPERLINK("#'"&C5&"'!"&J5,J5),"")
B6: =IF(AND(C6<>"",J6<>""),HYPERLINK("#'"&C6&"'!"&J6,J6),"")
B7: =IF(AND(C7<>"",J7<>""),HYPERLINK("#'"&C7&"'!"&J7,J7),"")
B8: =IF(AND(C8<>"",J8<>""),HYPERLINK("#'"&C8&"'!"&J8,J8),"")
B9: =IF(AND(C9<>"",J9<>""),HYPERLINK("#'"&C9&"'!"&J9,J9),"")
B10: =IF(AND(C10<>"",J10<>""),HYPERLINK("#'"&C10&"'!"&J10,J10),"")
B11: =IF(AND(C11<>"",J11<>""),HYPERLINK("#'"&C11&"'!"&J11,J11),"")
B12: =IF(AND(C12<>"",J12<>""),HYPERLINK("#'"&C12&"'!"&J12,J12),"")
B13: =IF(AND(C13<>"",J13<>""),HYPERLINK("#'"&C13&"'!"&J13,J13),"")
B14: =IF(AND(C14<>"",J14<>""),HYPERLINK("#'"&C14&"'!"&J14,J14),"")
B15: =IF(AND(C15<>"",J15<>""),HYPERLINK("#'"&C15&"'!"&J15,J15),"")
... B6002: =IF(AND(C6002<>"",J6002<>""),HYPERLINK("#'"&C6002&"'!"&J6002,J6002),"")

Sheet WAYFAIR_USE_ONLY
A1: {"brand_catalog_id": 1, "previous_upload_id": null, "template_type": "DEFAULT_QUESTIONS", "supplier_id": 459391, "template_context": "STANDARD", "app_version": "v2", "product_count": 0, "default_answers_included": true, "default_answers_supported": true, "use_legacy_excel_format": false, "include_variant_grouping": true, "download_template_request_id": "09cccb16-00fb-4964-b18e-71ac1de1146f", "sheet_metadata": null, "locale": null} | C1: =INFO("release")
C2: =INFO("system")
C3: {=IF(ISERROR(_xlfn.MAP(A8:A8,_xlfn.LAMBDA(_xlpm.class,_xlpm.class<>""))),"Not Available","Supported")}
A8: Carts & Stands | B8: Cocktail Table | C8: Yes | D8: Yes | E8: Yes | F8: Yes | G8: Yes | H8: Four Leg | I8: No | J8: No | K8: Yes | L8: Yes | M8: Yes | N8: No | O8: Yes | P8: No | Q8: Dovetail | R8: Yes | S8: Cell | T8: Lithium Metal | U8: 1 | V8: Stand alone | W8: Cells exceeding 5 grams | X8: Cells of between 20w/h and 60w/h | Y8: 2.5kg or less | Z8: Yes | AA8: Yes | AB8: Yes | AC8: Yes | AD8: Yes | AE8: Yes | AF8: Yes | AG8: Yes | AH8: Yes | AI8: Yes | AJ8: Yes | AK8: Yes | AL8: Yes | AM8: Yes | AN8: Yes | AO8: 1 | AP8: I | AQ8: >0 - ≤25ml | AR8: Yes | AS8: 1A | AT8: Yes | AU8: BIFMA Accredited | AV8: Yes | AW8: No Assembly Needed | AX8: 30 Days | AY8: Yes | AZ8: Yes | BA8: Full | BB8: DGpoco | BC8: US | BD8: Arabic | BE8: Yes | BF8: A-alpha-C (2-Amino-9H-pyrido[2,3-b]indole) | BG8: United States | BH8: Small Parcel | BI8: 50 | BJ8: 0 | BK8: 0 | BL8: Yes | BM8: Yes | BN8: Primary Variant | BO8: Size
A9: Multimedia Storage | B9: Coffee Table | C9: No | D9: No | E9: No | F9: No | G9: No | H9: Pedestal | I9: Yes | J9: Yes | K9: No | L9: No | M9: No | N9: Yes | O9: No | P9: Yes | Q9: Mortise and Tenon | R9: No | S9: Battery | T9: Lithium Ion / Lithium Polymer | U9: 2 | V9: Contained in product | W9: Batteries of 2 grams or less | X9: Cells exceeding 60w/h | Y9: 2.5kg to 5kg | Z9: No | AA9: No | AB9: No | AC9: No | AD9: No | AE9: No | AF9: No | AG9: No | AH9: No | AI9: No | AJ9: No | AK9: No | AL9: No | AM9: No | AN9: No | AO9: 2.2 | AP9: III | AQ9: >1L - ≤5L | AR9: No | AS9: 3A or 6A | AT9: No | AU9: BIFMA Equivalent | AV9: No | AW9: Minimal Assembly Needed | AX9: 60 Days | AY9: No | AZ9: No | BA9: Limited | BC9: UK | BD9: Bulgarian | BE9: No | BF9: Abiraterone acetate | BG9: Canada | BH9: LTL | BI9: 55 | BJ9: 24 | BK9: 24 | BL9: No | BM9: No | BN9: Non-Primary Variant | BO9: Color
A10: Speaker Stands | B10: Drum | C10: Unavailable | D10: Does Not Apply | F10: Unavailable | G10: Does Not Apply | H10: Three Leg | K10: Unavailable | L10: Does Not Apply | O10: Unavailable | P10: Unavailable | Q10: Rabbet Joint | R10: Unavailable | S10: Button Cell | T10: Nickel Cadmium | U10: 3 | V10: Packed with product | W10: Batteries of between 2 and 25 grams | X10: Cells of 20w/h or less | Y10: More than 10kg | Z10: Unavailable | AA10: Unavailable | AB10: Unavailable | AC10: Unavailable | AD10: Unavailable | AE10: Does Not Apply | AF10: Does Not Apply | AG10: Does Not Apply | AH10: Does Not Apply | AI10: Yes, Compliance Verified Program Member | AJ10: Does Not Apply | AK10: Unavailable | AN10: Does Not Apply | AO10: 2.1 | AP10: No Packing Group | AQ10: >0.5L - ≤1L | AS10: Does Not Apply | AT10: Does Not Apply | AU10: Contract Grade Accredited | AW10: Full Assembly Needed | AX10: 90 Days | AY10: Does Not Apply | BA10: Does Not Apply | BC10: EU | BD10: Czech (Czech Republic) | BF10: Acetaldehyde | BG10: Afghanistan | BI10: 60 | BJ10: 48 | BK10: 48 | BN10: Not Variant | BO10: Table Top Color
A11: TV Stands & Entertainment Centers | B11: Tray Top | H11: Trestle | O11: Does Not Apply | Q11: Basic Butt | R11: Does Not Apply | S11: Does Not Apply | T11: Nickel Metal Hydride | U11: 6 | V11: Does Not Apply | W11: Cells of 1gram or less | X11: Batteries exceeding 300w/h | Y11: 5kg to 10kg | AC11: Does Not Apply | AD11: Does Not Apply | AI11: Does Not Apply | AK11: Does Not Apply | AO11: 7 | AP11: II | AQ11: >0 - ≤100g | AU11: Unavailable | AW11: Does Not Apply | AX11: 6 Months | BC11: CA | BD11: Danish | BF11: Acetamide | BG11: Åland Islands | BI11: 65 | BJ11: 72 | BK11: 72 | BO11: Table Base Color
A12: Audio Towers | B12: Trunk | H12: Cross Legs | Q12: Biscuit Joint | T12: Alkaline | U12: 7 | W12: Cells of between 1 and 5 grams | X12: Batteries of between 100w/h and 300 w/h | Y12: Does Not Apply | AO12: 5.2 | AP12: Does Not Apply | AQ12: >100 - ≤500g | AU12: Does Not Apply | AX12: 1 Year | BD12: German | BF12: Acetazolamide | BG12: Albania | BI12: 70 | BJ12: 96 | BK12: 96 | BO12: Top Design
A13: Office Chairs | H13: Figurine | Q13: Tongue and Groove | T13: Carbon Zinc | U13: 5 | W13: Batteries exceeding 25 grams | X13: Batteries of 100w/h or less | AO13: 6.1 | AQ13: >500g - ≤1kg | AX13: 2 Years | BD13: Greek | BF13: Acetochlor | BG13: Algeria | BI13: 77.5 | BJ13: 120 | BK13: 120
A14: Beds | H14: Abstract | Q14: Pocket Joint | T14: Lead Acid (Spillable) | U14: 8 | W14: Does Not Apply | X14: Does Not Apply | AO14: 3 | AQ14: >125ml - ≤500ml | AX14: 3 Years | BD14: English (United Kingdom) | BF14: Acetohydroxamic acid | BG14: American Samoa | BI14: 85 | BJ14: 144
A15: Dressers & Chests | H15: Drum | Q15: Cam Bolt | T15: Lead Acid (Non-Spillable) | U15: 10 | AO15: 4.1 | AQ15: >25 - ≤125ml | AX15: 5 Years | BD15: English (United States) | BF15: 2-Acetylaminofluorene | BG15: Andorra | BI15: 92.5 | BJ15: 168
A16: Nightstands | H16: Six Leg | Q16: Dowel Joint | T16: Silver Oxide | U16: 4 | AO16: 4.3 | AQ16: >1kg - ≤5kg | AX16: 10 Years | BD16: Spanish | BF16: Acifluorfen sodium | BG16: Angola | BI16: 100 | BJ16: 192
A17: Armoires & Wardrobes | H17: Frame | Q17: Half-Lap | T17: Does Not Apply | U17: 9 | AO17: 4.2 | AQ17: >5L | AX17: 20 Years | BD17: Finnish | BF17: Acrylamide | BG17: Anguilla | BI17: 110 | BJ17: 216
A18: Daybeds & Guest Beds | H18: Block | Q18: Box | U18: Unavailable | AO18: 5.1 | AQ18: >5kg | AX18: 25 Years | BD18: French (Canada) | BF18: Acrylonitrile | BG18: Antarctica | BI18: 125 | BJ18: 240
A19: Headboards | H19: Wheel | Q19: Lap | U19: Does Not Apply | AO19: 2.3 | AQ19: Does Not Apply | AX19: Lifetime | BD19: Hungarian | BF19: Actinomycin D | BG19: Antigua and Barbuda | BI19: 150 | BJ19: 360
A20: Bedroom Sets | H20: Solid | Q20: Double Dowelled | AO20: 6.2 | AX20: 15 Years | BD20: Indonesian | BF20: AF-2;[2-(2-furyl)-3-(5-nitro-2-furyl)]acrylamide | BG20: Argentina | BI20: 175 | BJ20: 480
A21: Easels | H21: Sled | Q21: Bridle | AO21: 9 | AX21: 4 Years | BD21: Icelandic | BF21: Aflatoxins | BG21: Armenia | BI21: 200 | BJ21: 600
A22: Display Cases | H22: Floor Shelf | Q22: Halved | AO22: 8 | AX22: 18 Months | BD22: Italian | BF22: Alachlor | BG22: Aruba | BI22: 250 | BJ22: 720
A23: Lockers | H23: Unavailable | Q23: Corner Block Reinforced | AO23: Does Not Apply | AX23: 6 Years | BD23: Japanese | BF23: Alcoholic beverages, when associated with alcohol abuse | BG23: Australia | BI23: 300 | BJ23: 840
A24: Lecterns & Podiums | Q24: Miter | AX24: 7 Years | BD24: Korean | BF24: Aldrin | BG24: Austria | BI24: 400 | BJ24: 960
A25: Desks | Q25: Unavailable | AX25: 8 Years | BD25: Norwegian (Bokmål) | BF25: All-trans retinoic acid | BG25: Azerbaijan | BI25: 500
A26: Literature Racks | Q26: Does Not Apply | AX26: 9 Years | BD26: Dutch | BF26: Aloe Vera, non-decolorized whole leaf extract | BG26: Bahamas
A27: Filing Cabinets | AX27: 12 Years | BD27: Polish | BF27: Alprazolam | BG27: Bahrain
A28: Bookcases | AX28: 11 Years | BD28: Portuguese | BF28: Amantadine hydrochloride | BG28: Bangladesh
A29: Classroom Chairs | AX29: 13 Years | BD29: Romanian | BF29: Amikacin sulfate | BG29: Barbados
A30: Wall & Accent Mirrors | AX30: 14 Years | BD30: Russian | BF30: 2-Aminoanthraquinone | BG30: Belarus
A31: Office Stools | AX31: No Commercial Warranty | BD31: Slovak | BF31: p-Aminoazobenzene | BG31: Belgium
A32: Office Sets | AX32: Does Not Apply | BD32: Swedish | BF32: o-Aminoazotoluene | BG32: Belize
A33: Stackable & Nesting Chairs | BD33: Ukrainian | BF33: 4-Aminobiphenyl (4-aminodiphenyl) | BG33: Benin
A34: Futon Mattresses | BD34: Vietnamese | BF34: 1-Amino-2,4-dibromoanthraquinone | BG34: Bermuda
A35: Pot Racks | BD35: Chinese (S) | BF35: 3-Amino-9-ethylcarbazole hydrochloride | BG35: Bhutan
A36: Plant Stands & Tables | BD36: Chinese (T) | BF36: 2-Aminofluorene | BG36: Bolivia
A37: Accent Chairs | BF37: Aminoglutethimide | BG37: Bosnia and Herzegovina
A38: Kitchen Islands | BF38: Aminoglycosides | BG38: Botswana
A39: Baker's Racks | BF39: 1-Amino-2-methylanthraquinone | BG39: Bouvet Island
A40: Wine Racks | BF40: 2-Amino-5-(5-nitro-2-furyl)-1,3,4-thiadiazole | BG40: Brazil
A41: Bar Stools | BF41: 4-Amino-2-nitrophenol | BG41: British Indian Ocean Territory
A42: Mantel & Tabletop Clocks | BF42: Aminopterin | BG42: Brunei Darussalam
A43: Grandfather Clocks / Floor Clocks | BF43: Amiodarone hydrochloride | BG43: Bulgaria
A44: Conference Tables | BF44: Amitraz | BG44: Burkina Faso
...

Sheet 441 - Coffee & Cocktail
B1: core::supplierPartNumber | C1: core::amazonStandardIdentificationNumber | D1: core::manufacturerId | E1: core::manufacturerPartNumber | F1: core::universalProductCode | G1: core::productName | H1: core::collectionName | I1: core::manufacturerProductUrl | J1: variantGrouping::variantType | K1: variantGrouping::groupReferenceId | L1: variantGrouping::variantGrouping | M1: variantGrouping::variantAttributeNameOnSite | N1: variantGrouping::variantGrouping | O1: variantGrouping::variantAttributeNameOnSite | P1: variantGrouping::variantGrouping | Q1: variantGrouping::variantAttributeNameOnSite | R1: price::wholesalePrice | S1: price::minimumAdvertizedPrice | T1: price::manufacturerSuggestedRetailPrice | U1: featureDescription::romanceCopy | V1: featureDescription::genericFeatures | W1: featureDescription::genericFeatures | X1: featureDescription::genericFeatures | Y1: featureDescription::genericFeatures | Z1: featureDescription::genericFeatures | AA1: shippingAndFulfillment::minimumOrderQuantity | AB1: shippingAndFulfillment::forceQuantityMultiplier | AC1: shippingAndFulfillment::displaySetQuantity | AD1: shippingAndFulfillment::productWeight | AE1: shippingAndFulfillment::shipType | AF1: shippingAndFulfillment::freightClass | AG1: shippingAndFulfillment::leadTime | AH1: shippingAndFulfillment::replacementLeadTime | AI1: shippingAndFulfillment::nationalMotorFreightClass | AJ1: shippingAndFulfillment::flatPack | AK1: shippingAndFulfillment::shipPalletized | AL1: shippingAndFulfillment::weight | AM1: shippingAndFulfillment::height | AN1: shippingAndFulfillment::width | AO1: shippingAndFulfillment::depth | AP1: propSixtyFive::warningRequired | AQ1: propSixtyFive::chemicalId | AR1: propSixtyFive::toxicity | AS1: propSixtyFive::countryOfManufacturer | AT1: media::imageValue | AU1: media::imageValue | AV1: media::imageValue | AW1: media::imageValue | AX1: media::imageValue | AY1: media::videoValue | AZ1: media::documentValue | BA1: media::documentType | BB1: media::legalDocumentType | BC1: media::regionType | BD1: media::language | BE1: media::documentValue | BF1: media::documentType | BG1: media::legalDocumentType | BH1: media::regionType | BI1: media::language | BJ1: media::documentValue | BK1: media::documentType | BL1: media::legalDocumentType | BM1: media::regionType | BN1: media::language | BO1: 10391 | BP1: 10402 | BQ1: 10393 | BR1: 378129 | BS1: 10394 | BT1: 10375 | BU1: 10376 | BV1: 222982 | BW1: 10415 | BX1: 10373 | BY1: 164011 | BZ1: 10377 | CA1: 10404 | CB1: 222981 | CC1: 10417 | CD1: 223537 | CE1: 237697 | CF1: 237702 | CG1: 10405 | CH1: 10407 | CI1: 10406 | CJ1: 239991 | CK1: 239994 | CL1: 239997 | CM1: 244560 | CN1: 292813 | CO1: 293475 | CP1: 293539 | CQ1: 344977 | CR1: 346776 | CS1: 351565 | CT1: 367216 | CU1: 351576 | CV1: 352302 | CW1: 352293 | CX1: 351606 | CY1: 370837 | CZ1: 371510 | DA1: 381749 | DB1: 185333 | DC1: 384836 | DD1: 387434 | DE1: 400761 | DF1: 400777 | DG1: 400839 | DH1: 237693 | DI1: 10429 | DJ1: 210003 | DK1: 201428 | DL1: 224756 | DM1: 224977 | DN1: 364800 | DO1: 210009 | DP1: 236265 | DQ1: 249356 | DR1: 251106 | DS1: 295667 | DT1: 339303 | DU1: 373909 | DV1: 340805 | DW1: 341053 | DX1: 369745 | DY1: 386031 | DZ1: 415236 | EA1: 421625 | EB1: 10433 | EC1: 10434 | ED1: 10435 | EE1: 10444 | EF1: 10445 | EG1: 222846 | EH1: 222849 | EI1: 228897 | EJ1: 333534 | EK1: 254150 | EL1: 255266 | EM1: 256050
B2: Basic Information | J2: Variants | R2: Pricing | U2: Marketing Information | AA2: Fulfillment Information | AL2: Carton Details | AP2: Compliance | AT2: Media | BO2: Attributes
B3: Required | C3: Additional | D3: Required | E3: Required | F3: Recommended | G3: Required | H3: Additional | I3: Additional | J3: Required | K3: Conditional | L3: Recommended | M3: Conditional | N3: Recommended | O3: Conditional | P3: Recommended | Q3: Conditional | R3: Required | S3: Additional | T3: Additional | U3: Conditional | V3: Conditional | W3: Conditional | X3: Conditional | Y3: Conditional | Z3: Conditional | AA3: Required | AB3: Required | AC3: Required | AD3: Required | AE3: Required | AF3: Conditional | AG3: Required | AH3: Required | AI3: Additional | AJ3: Additional | AK3: Additional | AL3: Required | AM3: Required | AN3: Required | AO3: Required | AP3: Required | AQ3: Conditional | AR3: Conditional | AS3: Required | AT3: Required | AU3: Additional | AV3: Additional | AW3: Additional | AX3: Additional | AY3: Additional | AZ3: Conditional | BA3: Conditional | BB3: Conditional | BC3: Conditional | BD3: Conditional | BE3: Conditional | BF3: Conditional | BG3: Conditional | BH3: Conditional | BI3: Conditional | BJ3: Conditional | BK3: Conditional | BL3: Conditional | BM3: Conditional | BN3: Conditional | BO3: Required | BP3: Recommended | BQ3: Required | BR3: Required | BS3: Required | BT3: Required | BU3: Required | BV3: Recommended | BW3: Required | BX3: Recommended | BY3: Recommended | BZ3: Recommended | CA3: Recommended | CB3: Recommended | CC3: Recommended | CD3: Required | CE3: Required | CF3: Required | CG3: Required | CH3: Required | CI3: Required | CJ3: Required | CK3: Recommended | CL3: Required | CM3: Additional | CN3: Recommended | CO3: Recommended | CP3: Recommended | CQ3: Additional | CR3: Additional | CS3: Additional | CT3: Additional | CU3: Additional | CV3: Additional | CW3: Additional | CX3: Additional | CY3: Recommended | CZ3: Recommended | DA3: Required | DB3: Recommended | DC3: Recommended | DD3: Recommended | DE3: Recommended | DF3: Recommended | DG3: Required | DH3: Required | DI3: Required | DJ3: Additional | DK3: Required | DL3: Required | DM3: Required | DN3: Required | DO3: Required | DP3: Required | DQ3: Required | DR3: Required | DS3: Required | DT3: Additional | DU3: Additional | DV3: Additional | DW3: Additional | DX3: Additional | DY3: Recommended | DZ3: Recommended | EA3: Recommended | EB3: Required | EC3: Required | ED3: Required | EE3: Recommended | EF3: Required | EG3: Required | EH3: Recommended | EI3: Required | EJ3: Recommended | EK3: Recommended | EL3: Recommended | EM3: Recommended
A4: Errors | B4: Supplier Part Number | C4: ASIN or Amazon Seller SKU | D4: Brand | E4: Manufacturer Part Number | F4: Universal Product Code | G4: Product Name | H4: Collection Name | I4: Manufacturer Product URL | J4: Variant Type | K4: Group Reference ID | L4: Variant Grouping 1 | M4: Variant Attribute Name On Site 1 | N4: Variant Grouping 2 | O4: Variant Attribute Name On Site 2 | P4: Variant Grouping 3 | Q4: Variant Attribute Name On Site 3 | R4: Base Cost | S4: Minimum Advertised Price | T4: Manufacturer Suggested Retail Price | U4: Marketing Copy | V4: Feature Bullet 1 | W4: Feature Bullet 2 | X4: Feature Bullet 3 | Y4: Feature Bullet 4 | Z4: Feature Bullet 5 | AA4: Minimum Order Quantity | AB4: Force Quantity Multiplier | AC4: Display Set Quantity | AD4: Product Weight | AE4: Ship Type | AF4: Freight Class | AG4: Lead Time | AH4: Replacement Lead Time | AI4: National Motor Freight Class | AJ4: Flat Pack | AK4: Ship Palletized | AL4: Carton Weight 1 | AM4: Carton Height 1 | AN4: Carton Width 1 | AO4: Carton Depth 1 | AP4: Warning Required | AQ4: Chemical 1 | AR4: Toxicity 1 | AS4: Country Of Manufacturer | AT4: Image File Name or URL 1 | AU4: Image File Name or URL 2 | AV4: Image File Name or URL 3 | AW4: Image File Name or URL 4 | AX4: Image File Name or URL 5 | AY4: Video File Name or URL 1 | AZ4: Document File Name or URL 1 | BA4: Document Type 1 | BB4: Legal Document Type 1 | BC4: Document Region 1 | BD4: Document Language 1 | BE4: Document File Name or URL 2 | BF4: Document Type 2 | BG4: Legal Document Type 2 | BH4: Document Region 2 | BI4: Document Language 2 | BJ4: Document File Name or URL 3 | BK4: Document Type 3 | BL4: Legal Document Type 3 | BM4: Document Region 3 | BN4: Document Language 3 | BO4: Product Type | BP4: Stool(s) Included | BQ4: Table Top Shape | BR4: Top Color | BS4: Coffee Table Lift Top | BT4: Top Material | BU4: Base Material | BV4: Natural Variation Type | BW4: Upholstered | BX4: Gloss Finish | BY4: Mirrored | BZ4: Table Base Type | CA4: Wheels / Casters Included | CB4: Purposeful Distressing Type | CC4: Weight Capacity | CD4: Supplier Intended and Approved Use | CE4: Plug-In | CF4: Storage Included | CG4: Shelves Included | CH4: Drawers Included | CI4: Cabinets Included | CJ4: Decal/Laminate Design | CK4: Removable Tray | CL4: Set Type | CM4: Country of Origin - Additional Details | CN4: Inlaid Detail | CO4: Main Wood Joinery Method | CP4: Kiln-Dried Wood | CQ4: Battery or Batteries Included | CR4: Battery Composition | CS4: Battery Type | CT4: Number of Batteries | CU4: Battery Shipment | CV4: Lithium Content | CW4: Watt Rating of Cells / Battery | CX4: Weight of Cells / Battery | CY4: Unfinished | CZ4: Leg Design | DA4: Base Color | DB4: Wood Species | DC4: Pieces Included | DD4: Scalloped Edges | DE4: Fluted Detailing | DF4: Ribbed Detailing | DG4: Durability | DH4: Number of Tables Included | DI4: General Certificate of Conformity (GCC) | DJ4: ADA Compliant | DK4: Composite Wood Product (CWP) | DL4: CARB Phase II Compliant (formaldehyde emissions) | DM4: TSCA Title VI Compliant (formaldehyde emissions) | DN4: CANFER Compliant | DO4: CAL TB 117-2013 Compliant | DP4: Uniform Packaging and Labeling Regulations (UPLR) Compliant | DQ4: Canada Product Restriction | DR4: Reason for Restriction | DS4: SOFFA Compliant | DT4: Hazardous Material / Dangerous Goods | DU4: UN or ID number | DV4: Hazard Class(es) | DW4: Packing Group | DX4: Hazardous Material Weight | DY4: ISTA Certified | DZ4: Sustainability & Social Responsibility Certifications (North America Only) | EA4: Commercial Certifications | EB4: Overall Height - Top to Bottom | EC4: Overall Width - Side to Side | ED4: Overall Depth - Front to Back | EE4: Overall Product Weight | EF4: Assembly Required | EG4: Level of Assembly | EH4: Additional Tools Required (Not Included) | EI4: Commercial Warranty | EJ4: Commercial Warranty Length | EK4: Product Warranty | EL4: Full or Limited Warranty | EM4: Warranty Length
